BEGIN:VCALENDAR
VERSION:2.0
PRODID:-//Squarespace Inc/Squarespace 6//v6//EN
BEGIN:VEVENT
UID:5bb59fdb24a694de2a16b7c4@squarespace.com
DTSTAMP:20181018T030713Z
DTSTART:20181031T101500Z
DTEND:20181031T111500Z
SUMMARY:Sunrise Yoga
END:VEVENT
END:VCALENDAR
