BEGIN:VCALENDAR
VERSION:2.0
PRODID:-//Squarespace Inc/Squarespace 6//v6//EN
BEGIN:VEVENT
UID:5d4c8b136544cd0001a98e36@squarespace.com
DTSTAMP:20190808T205056Z
DTSTART:20191017T164500Z
DTEND:20191017T174500Z
SUMMARY:iRest Meditation and Mindfulness (8-week course)
GEO:-36.862785;174.734519
LOCATION:The Yoga Ground\, 56 Surrey Crescent\, Auckland\, Auckland\, 1021\
 , New Zealand
END:VEVENT
END:VCALENDAR
