BEGIN:VCALENDAR
VERSION:2.0
PRODID:-//Squarespace Inc/Squarespace 6//v6//EN
BEGIN:VEVENT
UID:5bf1f9d52b6a28d6309d9a8a@squarespace.com
DTSTAMP:20190808T205027Z
DTSTART:20191017T151500Z
DTEND:20191017T161500Z
SUMMARY:iRest Meditation and Mindfulness (8-week course)
GEO:-36.862785;174.734519
LOCATION:The Yoga Ground\, 56 Surrey Crescent\, Auckland\, Auckland\, 1021\
 , New Zealand
END:VEVENT
END:VCALENDAR
