BEGIN:VCALENDAR
VERSION:2.0
PRODID:-//Squarespace Inc/Squarespace 6//v6//EN
BEGIN:VEVENT
UID:5b8758000ebbe8d7d023bb20@squarespace.com
DTSTAMP:20181118T234629Z
DTSTART:20181121T153000Z
DTEND:20181121T163000Z
SUMMARY:iRest Meditation and Mindfulness Course 
GEO:-36.850024;174.725136
LOCATION:Cox Bay Boat Shed\, 55 West End Road\, Auckland\, Auckland\, 1011\
 , New Zealand
END:VEVENT
END:VCALENDAR
