BEGIN:VCALENDAR
VERSION:2.0
PRODID:-//Squarespace Inc/Squarespace 6//v6//EN
BEGIN:VEVENT
UID:5b875a652b6a287fb5f5a8dd@squarespace.com
DTSTAMP:20181004T050512Z
DTSTART:20180926T233000Z
DTEND:20180927T003000Z
SUMMARY:Reconnection\, Restoration and Relaxation
GEO:-36.8809;174.79716
LOCATION:Contemporary Yoga Studio\, 351 Remuera Road\, Auckland\, Auckland\
 , 1050\, New Zealand
END:VEVENT
END:VCALENDAR
