BEGIN:VCALENDAR
VERSION:2.0
PRODID:-//Squarespace Inc/Squarespace 6//v6//EN
BEGIN:VEVENT
UID:5bb59fa81905f45e25310f4d@squarespace.com
DTSTAMP:20190916T033405Z
DTSTART:20191016T203000Z
DTEND:20191016T213000Z
SUMMARY:Trauma-sensitive yoga (8-week course)
GEO:44.260774;-72.575618
LOCATION:Contemporary Yoga\, 351 Remuera Road\, Auckland\, Auckland\, 1050\
 , New Zealand
END:VEVENT
END:VCALENDAR
