BEGIN:VCALENDAR
VERSION:2.0
PRODID:-//Squarespace Inc/Squarespace 6//v6//EN
BEGIN:VEVENT
UID:5bfb583a4ae237e15d5eec78@squarespace.com
DTSTAMP:20190916T033357Z
DTSTART:20191015T153000Z
DTEND:20191015T163000Z
SUMMARY:Trauma-sensitive yoga (8-week course)
GEO:-36.714529;174.748499
LOCATION:Yoga Within\, 81 Clyde Road\, Auckland\, Auckland\, 0630\, New Zea
 land
END:VEVENT
END:VCALENDAR
