BEGIN:VCALENDAR
VERSION:2.0
PRODID:-//Squarespace Inc/Squarespace 6//v6//EN
BEGIN:VEVENT
UID:5de6d74d48722564720cf755@squarespace.com
DTSTAMP:20191203T214533Z
DTSTART:20200201T220000Z
DTEND:20200201T230000Z
SUMMARY:Please refer to www.bodymindpsychology.co.nz for all groups :)
END:VEVENT
END:VCALENDAR
