BEGIN:VCALENDAR
VERSION:2.0
PRODID:-//Squarespace Inc/Squarespace 6//v6//EN
BEGIN:VEVENT
UID:5c64954d652deaaa164e054a@squarespace.com
DTSTAMP:20190213T222039Z
DTSTART:20190228T003000Z
DTEND:20190228T014500Z
SUMMARY:Mindful Movement &amp\; Meditation (5-week course\; all levels)
GEO:-36.8809;174.79716
LOCATION:Contemporary Yoga\, 351 Remuera Road\, 1050\, Auckland
END:VEVENT
END:VCALENDAR
