BEGIN:VCALENDAR
VERSION:2.0
PRODID:-//Squarespace Inc/Squarespace 6//v6//EN
BEGIN:VEVENT
UID:5d1c44ce151f470001eb9537@squarespace.com
DTSTAMP:20190703T060259Z
DTSTART:20190726T190000Z
DTEND:20190726T200000Z
SUMMARY:Youth Yoga
GEO:-36.856489;174.74272
LOCATION:SALA\, 1/56 Brown Street\, Ponsonby\, New Zealand
END:VEVENT
END:VCALENDAR
